BEGIN:VCALENDAR
VERSION:2.0
PRODID:-//Lyon Sortie Photo//LSP Events//FR
CALSCALE:GREGORIAN
METHOD:PUBLISH
BEGIN:VEVENT
UID:ev-1@ned-photographie.fr
DTSTAMP:20260422T052622Z
DTSTART:20260418T140000Z
DTEND:20260418T160000Z
SUMMARY:Découvrir la photo d'architecture à la manière de Jack Fleming
LOCATION:149 Rue Garibaldi\, 69003 Lyon
DESCRIPTION:Une sortie photo pour photographier l'architecture de Lyon à la manière de Jack Fleming avec ses photos de Londres.
URL:https://ned-photographie.fr/communaute/evenement/initiation-photo-darchitecture-a-la-maniere-de-jack-fleming/
END:VEVENT
END:VCALENDAR
