BEGIN:VCALENDAR
VERSION:2.0
PRODID:-//Lyon Sortie Photo//LSP Events//FR
CALSCALE:GREGORIAN
METHOD:PUBLISH
BEGIN:VEVENT
UID:ev-22@ned-photographie.fr
DTSTAMP:20260422T071803Z
DTSTART:20260404T063000Z
DTEND:20260404T080000Z
SUMMARY:Capturer le lever de soleil au Jardin des Curiosités
LOCATION:Jardin des Curiosités\, Place de l'Abbé Larue\, Lyon\, France
DESCRIPTION:On donne rendez-vous aux photographes "lève-tôt" pour capturer le lever du soleil sur les hauteurs de Lyon !
URL:https://ned-photographie.fr/communaute/evenement/sortie-photo-a-lyon-lever-de-soleil-au-jardin-des-curiosites-1772706743-1772706773/
END:VEVENT
END:VCALENDAR
