BEGIN:VCALENDAR
VERSION:2.0
PRODID:-//Lyon Sortie Photo//LSP Events//FR
CALSCALE:GREGORIAN
METHOD:PUBLISH
BEGIN:VEVENT
UID:ev-23@ned-photographie.fr
DTSTAMP:20260422T034110Z
DTSTART:20260510T093000Z
DTEND:20260510T123000Z
SUMMARY:Sublimer vos portraits au Rooftop des Halles Paul Bocuse
LOCATION:Rooftop Jardin Suspendu\, Rue Garibaldi\, Lyon\, France
DESCRIPTION:Des modèles en tenues artistiques et un rooftop avec Lyon à 360° lors de cet atelier photo de portrait à Lyon
URL:https://ned-photographie.fr/communaute/evenement/atelier-photo-de-portrait-au-rooftop-des-halles-paul-bocuse/
END:VEVENT
END:VCALENDAR
