BEGIN:VCALENDAR
VERSION:2.0
PRODID:-//Lyon Sortie Photo//LSP Events//FR
CALSCALE:GREGORIAN
METHOD:PUBLISH
BEGIN:VEVENT
UID:ev-24@ned-photographie.fr
DTSTAMP:20260422T052622Z
DTSTART:20260516T143000Z
DTEND:20260516T163000Z
SUMMARY:Capturer la rue : chasseur ou pêcheur ?
LOCATION:Place des Terreaux\, Lyon\, France
DESCRIPTION:En street photo\, deux approches se croisent et se complètent: êtes-vous plutôt chasseur ou pêcheur ?
URL:https://ned-photographie.fr/communaute/evenement/sortie-street-photo-chasseur-ou-pecheur/
END:VEVENT
END:VCALENDAR
