BEGIN:VCALENDAR
VERSION:2.0
PRODID:-//Lyon Sortie Photo//LSP Events//FR
CALSCALE:GREGORIAN
METHOD:PUBLISH
BEGIN:VEVENT
UID:ev-28@ned-photographie.fr
DTSTAMP:20260422T034038Z
DTSTART:20260508T100000Z
DTEND:20260508T120000Z
SUMMARY:Maîtriser le mode manuel en 2h
LOCATION:Musée des Confluences\, Quai Perrache\, Lyon\, France
DESCRIPTION:Le mode Manuel fait peur à tout le monde au début. En 2h\, vous allez comprendre la logique du triangle d'exposition\, tester par vous-même\, et ne plus jamais retourner en Auto !
URL:https://ned-photographie.fr/communaute/evenement/cours-intensif-photo-maitriser-le-mode-manuel-en-2h-1772807331-1772807467-1772807538/
END:VEVENT
END:VCALENDAR
