BEGIN:VCALENDAR
VERSION:2.0
PRODID:-//Lyon Sortie Photo//LSP Events//FR
CALSCALE:GREGORIAN
METHOD:PUBLISH
BEGIN:VEVENT
UID:ev-38@ned-photographie.fr
DTSTAMP:20260422T034038Z
DTSTART:20260517T100000Z
DTEND:20260517T170000Z
SUMMARY:Explorer les cascades secrètes de l'Ain
LOCATION:Virieu-le-Grand\, France
DESCRIPTION:Découvrez les plus belles cascades de l'Ain avec Christian\, guide spécialisé depuis de nombreuses années. Un stage photo à la journée dédiée à la photo de cascade avec exploration de spots de folie !
URL:https://ned-photographie.fr/communaute/evenement/stage-photo-cascades-de-lain-spots-insolites-pose-longue-1774964497/
END:VEVENT
END:VCALENDAR
