BEGIN:VCALENDAR
VERSION:2.0
PRODID:-//Lyon Sortie Photo//LSP Events//FR
CALSCALE:GREGORIAN
METHOD:PUBLISH
BEGIN:VEVENT
UID:ev-4@ned-photographie.fr
DTSTAMP:20260422T034039Z
DTSTART:20260502T170000Z
DTEND:20260502T220000Z
SUMMARY:Apprivoiser l'éclairage Rembrandt au flash déporté
LOCATION:25 Quai Saint-Vincent\, 69001 Lyon\, France
DESCRIPTION:Un cours photo à Lyon de 5 heures pour maîtriser le flash déporté en studio puis dans la rue.
URL:https://ned-photographie.fr/communaute/evenement/cours-photo-photographie-rembrandt-au-un-flash-deporte/
END:VEVENT
END:VCALENDAR
