BEGIN:VCALENDAR
VERSION:2.0
PRODID:-//Lyon Sortie Photo//LSP Events//FR
CALSCALE:GREGORIAN
METHOD:PUBLISH
BEGIN:VEVENT
UID:ev-6@ned-photographie.fr
DTSTAMP:20260422T052622Z
DTSTART:20260329T100000Z
DTEND:20260329T170000Z
SUMMARY:Réaliser des portraits dans les cascades de l'Ain
LOCATION:Virieu-le-Grand\, France
DESCRIPTION:Un workshop photo portrait dans les cascades de l'Ain. Un équipe de modèles photo pour faire des portrait d'exception et un guide spécialisé qui vous emmène sur ses spots de prédilection. Une journée complète pour créer des portraits incroyables dans des décors naturels spectaculaires.
URL:https://ned-photographie.fr/communaute/evenement/a-la-decouverte-des-cascades-de-lain-workshop-portrait/
END:VEVENT
END:VCALENDAR
